BEGIN:VCALENDAR
PRODID:NingEventWidget-v1
VERSION:2.0
METHOD:PUBLISH
BEGIN:VEVENT
UID:5021591:Event:2892
DTSTAMP:20260421T122613Z
SUMMARY:Youth Triathlon Clinic
DESCRIPTION:Basic Triathlon Clinic for Kids - Colorado Springs, CO\n\n
 This is a one day clinic which will introduce young athletes to the ex
 citing and fast paced sport of Triathlon! They will learn how to swim,
  bike run and have fun! USAT Certified Coaches will work with athletes
  teaching safe skills for each of the three sports as well as tips for
  fast transitions. The parent Q & A Session will address race informat
 ion, training for young athletes, equipment and safety and a bried ove
 rview of rules and guidelines.\n\nFee $45\nAthletes Ages 7 - 19\n\nFor
  more information visit:\nhttp://www.wickedfastri.com/index.php/our-se
 rvices/camps-a-clinics/wickedfast-clinics\n\nOr contact\nMichelle Cox 
 at 719-291-6540\nmichelle@wickedfastri.com\nAlan Ley at 719-359-7071\n
 alan@wickedfastri.com\n\nFor more information visit http://pikespeaksp
 orts.us/events/youth-triathlon-clinic
DTSTART:20100508T140000Z
DTEND:20100508T200000Z
CATEGORIES:youth, triathlon, clinic
LOCATION:Palmer Ridge High School
WEBSITE:http://prhs.lewispalmer.org
URL:http://prhs.lewispalmer.org
CONTACT:
ORGANIZER:Alan Ley and Michelle Cox - Wicked Fast Triathlon Team
ATTACH;FMTTYPE="image/jpeg":http://storage.ning.com/topology/rest/1.0/
 file/get/2842530299?profile=original
ATTENDEE;ROLE=REQ-PARTICIPANT;PARTSTAT=ACCEPTED;RSVP=TRUE;CN="Nicole O
 dell":http://pikespeaksports.us/profile/NicoleDrummer
END:VEVENT
END:VCALENDAR
