BEGIN:VCALENDAR
PRODID:NingEventWidget-v1
VERSION:2.0
METHOD:PUBLISH
BEGIN:VEVENT
UID:5021591:Event:877760
DTSTAMP:20260422T094258Z
SUMMARY:XTERRA 21K WORLD TRAIL CHAMPIONSHIP.
DESCRIPTION:Getting ready to head to Hawaii (Maui) for the XTERRA TRAI
 L RUN WORLD CHAMPIONSHIPS THIS SATURDAY- DECEMBER 4, 2021. Going for a
  3rd division title- two time world champion 45-49-  50-54 this year.
   Will compete against the USA mountain team.   Then Honolulu Marat
 hon on December 12.\n\nFor more information visit http://pikespeakspor
 ts.us/events/xterra-21k-world-trail-championship
DTSTART:20211204T070000Z
DTEND:20211205T065900Z
CATEGORIES:21k, xterra, trail, world, "championships."
LOCATION:MAUII
WEBSITE:
URL:
CONTACT:
ORGANIZER;CN="Gerald \"G Man\" Romero":http://pikespeaksports.us/profi
 le/GeraldRomero
ATTACH;FMTTYPE="image/jpeg":
ATTENDEE;ROLE=REQ-PARTICIPANT;PARTSTAT=ACCEPTED;RSVP=TRUE;CN="Gerald \
 "G Man\" Romero":http://pikespeaksports.us/profile/GeraldRomero
END:VEVENT
END:VCALENDAR
