BEGIN:VCALENDAR
PRODID:NingEventWidget-v1
VERSION:2.0
METHOD:PUBLISH
BEGIN:VEVENT
UID:5021591:Event:558
DTSTAMP:20260422T180545Z
SUMMARY:Women's Mountain Bike Association of Colorado Springs Annual F
 undraiser
DESCRIPTION:Join WMBA at McCabes Tavern on April 10th for thheir 2nd a
 nnual fundraiser.\n\nThis year they will be showing the premiere of â€
 śAwesome\nLand: Women of Dirtâ€ť. This movie showcases some of the bes
 t female mountain bikers across the nation and is sure to inspire you 
 to get on your bike and ride this spring!\n\nGreat prizes and giveaway
 s too!\n\nFor more information visit http://pikespeaksports.us/events/
 womens-mountain-bike
DTSTART:20100410T220000Z
DTEND:20100411T020000Z
CATEGORIES:fundraiser, movie, premiere
LOCATION:McCabes Tavern
WEBSITE:http://www.wmbacos.org
URL:http://www.wmbacos.org
CONTACT:
ORGANIZER:
ATTACH;FMTTYPE="image/jpeg":http://storage.ning.com/topology/rest/1.0/
 file/get/2842526097?profile=original
ATTENDEE;ROLE=REQ-PARTICIPANT;PARTSTAT=ACCEPTED;RSVP=TRUE;CN="Brian Mc
 Carrie":http://pikespeaksports.us/profile/virtualbrian
END:VEVENT
END:VCALENDAR
