BEGIN:VCALENDAR
PRODID:NingEventWidget-v1
VERSION:2.0
METHOD:PUBLISH
BEGIN:VEVENT
UID:5021591:Event:159
DTSTAMP:20260424T131048Z
SUMMARY:Winter Series No. 4, Black Forest
DESCRIPTION:The Pikes Peak Road Runners Winter Series finale.\nDownloa
 d entry form at http://www.pprrun.org/\nRace location: Wolford Element
 ary School\n13710 Black Forest Road, Colorado Springs, CO\nDirections\
 n* From I-25, take the Interquest Parkway exit (Exit 153)\n* Head east
  on Interquest Parkway (away from the mountains)\n* Proceed approximat
 ely 2 miles east and north to Shoup Road\n* Turn right onto Shoup Road
 \n* Proceed approximately 4.2 miles to Black Forest Road (at the stopl
 ight)\n* Turn left onto Black Forest Road\n* Proceed appriximately 1.6
  miles to the Wolford School entrance\n* Turn left and park behind the
  school\n\nFor more information visit http://pikespeaksports.us/events
 /winter-series-no-4-black
DTSTART:20100227T170000Z
DTEND:20100227T210000Z
CATEGORIES:running, race
LOCATION:Wolford Elementary School, 13710 Black Forest Road
WEBSITE:http://www.pprrun.org/
URL:http://www.pprrun.org/
CONTACT:
ORGANIZER;CN="Tim Bergsten":http://pikespeaksports.us/profile/TimBergs
 ten
ATTACH;FMTTYPE="image/jpeg":http://storage.ning.com/topology/rest/1.0/
 file/get/2656395636?profile=original
ATTENDEE;ROLE=REQ-PARTICIPANT;PARTSTAT=ACCEPTED;RSVP=TRUE;CN="Tim Berg
 sten":http://pikespeaksports.us/profile/TimBergsten
END:VEVENT
END:VCALENDAR
