BEGIN:VCALENDAR
PRODID:NingEventWidget-v1
VERSION:2.0
METHOD:PUBLISH
BEGIN:VEVENT
UID:5021591:Event:878277
DTSTAMP:20260422T100637Z
SUMMARY:Wild Horse Gravel
DESCRIPTION:A SECRET STASH OF HIGH DESERT GRAVEL\n\n\n \nWild Horse G
 ravel showcases the unique high desertscape of Colorado’s Wester
 n Slope. Hosted on the luxury High Lonesome Ranch, cyclists will be
  treated to a country cook-out, campfire, cabins, camping – or glamp
 ing – and the best local music. In short, there will be a country 
 hoedown to accompany the race.\n\nIn addition to being well hidden,
  The High Lonesome Ranch and its surrounding area isn’t open to rid
 ing year-round, so participants benefit from exclusive access to this 
 secret stash of wild-west gravel. \n\nTimed from start to finish, y
 ou are still encouraged to take the ride as seriously or as frivolousl
 y as you like — the name of the game is doing a big gravel ride with
  friends new and old. Even those that hammer away at maximum speed wil
 l stop to regroup, taking in the views and the delicious local goodies
  at the well-stocked feed stations. \n\n\n\nFor more information visi
 t http://pikespeaksports.us/events/wild-horse-gravel
DTSTART:20220514T060000Z
DTEND:20220515T055900Z
CATEGORIES:cycling, ride
LOCATION:The High Lonesome Ranch
WEBSITE:https://events.outsideonline.com/wildhorse/
URL:https://events.outsideonline.com/wildhorse/
CONTACT:
ORGANIZER:Outside Events Cycling Series
ATTACH;FMTTYPE="image/jpeg":https://storage.ning.com/topology/rest/1.0
 /file/get/10253200896?profile=original
ATTENDEE;ROLE=REQ-PARTICIPANT;PARTSTAT=ACCEPTED;RSVP=TRUE;CN="Roll Mas
 sif":http://pikespeaksports.us/profile/RollMassif
END:VEVENT
END:VCALENDAR
