BEGIN:VCALENDAR
PRODID:NingEventWidget-v1
VERSION:2.0
METHOD:PUBLISH
BEGIN:VEVENT
UID:5021591:Event:621
DTSTAMP:20260424T015252Z
SUMMARY:Widefield 5-mile run, 5K walk
DESCRIPTION:Kick off your spring by participating in our fourth annual
  5-mile run or 5K (3.1 miles) walk. This event will be held at the bea
 utiful Fountain Creek Regional Park. Proceeds will go to the Mesa Ridg
 e and Widefield High School track teams. Awards will be given to the t
 op three runners in each age division. Cost includes a tech-shirt and 
 refreshments.\nDate: Saturday, March 20, 2010\nTime: 8:30 a.m.\nLocati
 on: Fountain Creek Regional Park\nCost: $25 for the run - $20 for the 
 walk; $5 discount each additional family member; $5 late fee after Mar
 ch 12.\nCall 719-391-3515 for info on how to register.\n\nFor more inf
 ormation visit http://pikespeaksports.us/events/widefield-5mile-run-5k
 -walk
DTSTART:20100320T143000Z
DTEND:20100320T170000Z
CATEGORIES:5-mile, run, 5k, walk
LOCATION:Fountain Creek Regional Park
WEBSITE:http://cc.wsd3.org/
URL:http://cc.wsd3.org/
CONTACT:719-391-3515
ORGANIZER:Widefield Community Center
ATTACH;FMTTYPE="image/jpeg":
ATTENDEE;ROLE=REQ-PARTICIPANT;PARTSTAT=ACCEPTED;RSVP=TRUE;CN="Terry Mo
 ntgomery":http://pikespeaksports.us/profile/TerryMontgomery
ATTENDEE;ROLE=REQ-PARTICIPANT;PARTSTAT=ACCEPTED;RSVP=TRUE;CN="Pikes Pe
 ak Sports":http://pikespeaksports.us/profile/PikesPeakSports
END:VEVENT
END:VCALENDAR
