BEGIN:VCALENDAR
PRODID:NingEventWidget-v1
VERSION:2.0
METHOD:PUBLISH
BEGIN:VEVENT
UID:5021591:Event:2558
DTSTAMP:20260421T093630Z
SUMMARY:Wednesday Night Time Trial Series
DESCRIPTION:This is a practice Time Trial Series for fun, for cyclist 
 of all levels-competitive, leisure, and first time riders. Fees will g
 o towards insurance and permits as well as trail maintenance in North 
 Cheyenne Cañon.\n\nFor more information visit http://pikespeaksports.
 us/events/wednesday-night-time-trial
DTSTART:20100505T231500Z
DTEND:20100506T010000Z
CATEGORIES:practice, time, trial
LOCATION:26th St.
WEBSITE:http://coloradoendurancesports.com/index.html
URL:http://coloradoendurancesports.com/index.html
CONTACT:
ORGANIZER:
ATTACH;FMTTYPE="image/jpeg":http://storage.ning.com/topology/rest/1.0/
 file/get/2842524102?profile=original
ATTENDEE;ROLE=REQ-PARTICIPANT;PARTSTAT=ACCEPTED;RSVP=TRUE;CN="Brian Mc
 Carrie":http://pikespeaksports.us/profile/virtualbrian
ATTENDEE;ROLE=REQ-PARTICIPANT;PARTSTAT=TENTATIVE;RSVP=TRUE;CN="Dean Bl
 anchard":http://pikespeaksports.us/profile/DeanBlanchard
END:VEVENT
END:VCALENDAR
