BEGIN:VCALENDAR
PRODID:NingEventWidget-v1
VERSION:2.0
METHOD:PUBLISH
BEGIN:VEVENT
UID:5021591:Event:865371
DTSTAMP:20260422T083017Z
SUMMARY:Walk Run Roll for Daniel
DESCRIPTION:As a brain cancer survivor and Ambassador for Children's H
 ospital Daniel is hosting this Fundraiser which will benefit The Danie
 l's Fund and Children's Hospital Colorado Pediatric Neurosurgery.\n\nF
 or more information visit http://pikespeaksports.us/events/walk-run-ro
 ll-for-daniel-2
DTSTART:20210327T150000Z
DTEND:20210327T180000Z
CATEGORIES:fund, raiser
LOCATION:Legacy Loop Plaza
WEBSITE:https://www.runningguru.com/E1.asp?eID=80333
URL:https://www.runningguru.com/E1.asp?eID=80333
CONTACT:17193062330
ORGANIZER;CN=Pharis:http://pikespeaksports.us/profile/Pharis645
ATTACH;FMTTYPE="image/jpeg":https://storage.ning.com/topology/rest/1.0
 /file/get/8585957654?profile=original
ATTENDEE;ROLE=REQ-PARTICIPANT;PARTSTAT=ACCEPTED;RSVP=TRUE;CN=Pharis:ht
 tp://pikespeaksports.us/profile/Pharis645
END:VEVENT
END:VCALENDAR
