BEGIN:VCALENDAR
PRODID:NingEventWidget-v1
VERSION:2.0
METHOD:PUBLISH
BEGIN:VEVENT
UID:5021591:Event:845902
DTSTAMP:20260422T112918Z
SUMMARY:Walk Run Roll for Daniel
DESCRIPTION:Join us for the second annual Walk, Run or Roll for Daniel
 . As a brain cancer survivor and Ambassador for Children's Hospital Da
 niel is hosting this Fundraiser which will benefit the patients at Neu
 rosurgery Department at Children's Hospital.   \nThe 15mile Bike Ri
 de departs Legacy loop Plaza at 9:00 am and travels the Cascade Bike L
 anes to Colorado Ave and heads west to the Buffalo Lodge Bicycle Resor
 t where you will be served waffles and hot chocolate before returning 
 to the Plaza for the post-ride festivities.\nThe 5k Walk/Run starts pr
 omptly at 10:00 am using the Legacy Loop Trail along Fountain Creek. T
 his course is stroller friendly and suited for kids of All ages. \n
 \n\nFor more information visit http://pikespeaksports.us/events/walk-r
 un-roll-for-daniel-1
DTSTART:20200328T150000Z
DTEND:20200328T200000Z
CATEGORIES:fund, raiser
LOCATION:Legacy Loop Plaza
WEBSITE:https://www.runningguru.com/E1.asp?eID=67884
URL:https://www.runningguru.com/E1.asp?eID=67884
CONTACT:7193062330
ORGANIZER;CN=Pharis:http://pikespeaksports.us/profile/Pharis645
ATTACH;FMTTYPE="image/jpeg":https://storage.ning.com/topology/rest/1.0
 /file/get/3824821691?profile=original
ATTENDEE;ROLE=REQ-PARTICIPANT;PARTSTAT=ACCEPTED;RSVP=TRUE;CN=Pharis:ht
 tp://pikespeaksports.us/profile/Pharis645
END:VEVENT
END:VCALENDAR
