BEGIN:VCALENDAR
PRODID:NingEventWidget-v1
VERSION:2.0
METHOD:PUBLISH
BEGIN:VEVENT
UID:5021591:Event:877829
DTSTAMP:20260422T083131Z
SUMMARY:Walk Run or Roll for Daniel
DESCRIPTION:Join us for the third annual Walk, Run or Roll for Daniel.
   As a brain cancer survivor and Ambassador for Children's Hospital D
 aniel is hosting this Fundraiser which will benefit The Daniel's Fund 
 and Children's Hospital Colorado Pediatric Neurosurgery.\nThe 15mile B
 ike Ride departs Legacy Loop Plaza at 9:00 am and travels the Cascade 
 Bike Lanes to Colorado Ave and heads west to the Buffalo Lodge Bicycle
  Resort where you will be served waffles and hot chocolate before retu
 rning to the Plaza for the post-ride festivities.\n\n\nFor more inform
 ation visit http://pikespeaksports.us/events/walk-run-or-roll-for-dani
 el
DTSTART:20220326T150000Z
DTEND:20220326T200000Z
CATEGORIES:fund, raiser, walk, run, bike
LOCATION:Legacy Loop Plaza
WEBSITE:https://www.runningguru.com/E1.asp?eID=92793
URL:https://www.runningguru.com/E1.asp?eID=92793
CONTACT:17193062330
ORGANIZER;CN=Pharis:http://pikespeaksports.us/profile/Pharis645
ATTACH;FMTTYPE="image/jpeg":https://storage.ning.com/topology/rest/1.0
 /file/get/10014805090?profile=original
ATTENDEE;ROLE=REQ-PARTICIPANT;PARTSTAT=ACCEPTED;RSVP=TRUE;CN=Pharis:ht
 tp://pikespeaksports.us/profile/Pharis645
END:VEVENT
END:VCALENDAR
