BEGIN:VCALENDAR
PRODID:NingEventWidget-v1
VERSION:2.0
METHOD:PUBLISH
BEGIN:VEVENT
UID:5021591:Event:872354
DTSTAMP:20260422T083433Z
SUMMARY:Walk Run or Ride for those that can't
DESCRIPTION:ALS This is a terrible disease where the persons body shut
 s down but their mind remains completely functional. The group we're a
 re supporting is ALS TDI This fund raiser is Sunday April 18, 2021 wit
 h a 5kwalk/run and a 12 mile bike ride.\n\nFor more information visit 
 http://pikespeaksports.us/events/walk-run-or-ride-for-those-that-can-t
DTSTART:20210418T140000Z
DTEND:20210418T190000Z
CATEGORIES:fund, raiser, walk, run, bike
LOCATION:Legacy Loop Plaza
WEBSITE:https://www.runningguru.com/E1.asp?eID=81942
URL:https://www.runningguru.com/E1.asp?eID=81942
CONTACT:17193062330
ORGANIZER;CN=Pharis:http://pikespeaksports.us/profile/Pharis645
ATTACH;FMTTYPE="image/jpeg":https://storage.ning.com/topology/rest/1.0
 /file/get/8654019900?profile=original
ATTENDEE;ROLE=REQ-PARTICIPANT;PARTSTAT=ACCEPTED;RSVP=TRUE;CN=Pharis:ht
 tp://pikespeaksports.us/profile/Pharis645
END:VEVENT
END:VCALENDAR
