BEGIN:VCALENDAR
PRODID:NingEventWidget-v1
VERSION:2.0
METHOD:PUBLISH
BEGIN:VEVENT
UID:5021591:Event:431935
DTSTAMP:20260420T023123Z
SUMMARY:Ute Pass Pony Run Fundraiser 5k and 1 Mile
DESCRIPTION:5k and 1 Mile Run or Walk in Chipita Park to benefit Ute P
 ass Elementary School. Online entry and race-day entry only.\n\nFor mo
 re information visit http://pikespeaksports.us/events/ute-pass-pony-ru
 n-fundraiser-5k-and-1-mile
DTSTART:20130511T140000Z
DTEND:20130511T160000Z
CATEGORIES:5k, run, 1, mile, walk
LOCATION:Chipita Park
WEBSITE:http://www.pprrun.org
URL:http://www.pprrun.org
CONTACT:719-310-8243
ORGANIZER:Joanna Bartko
ATTACH;FMTTYPE="image/jpeg":
ATTENDEE;ROLE=REQ-PARTICIPANT;PARTSTAT=ACCEPTED;RSVP=TRUE;CN="Pikes Pe
 ak Sports":http://pikespeaksports.us/profile/PikesPeakSports
END:VEVENT
END:VCALENDAR
