BEGIN:VCALENDAR
PRODID:NingEventWidget-v1
VERSION:2.0
METHOD:PUBLISH
BEGIN:VEVENT
UID:5021591:Event:1693
DTSTAMP:20260421T150737Z
SUMMARY:Ute Pass Elementary Pony Fun Run 1m/5k
DESCRIPTION:Pony Fun Run! Join us for the fun and one of UPE's BIGGEST
  fundraisers of the year, on Saturday, May 8 at 9am (race day reg. sta
 rts at 7:45). Run or walk from our parking lot following the Ute Pass 
 Regional and El Paso Trail to the lake in Green Mountain Falls and bac
 k. 1 mile/5k distances. Trail is mostly dirt with some pavement and ro
 lling hills. $15 for entry fee and a student designed race t-shirt. Pr
 izes for EVERY participant!!\n\nGreat prizes, food, fun, music, and mo
 re!\n\nFor more information visit http://pikespeaksports.us/events/ute
 -pass-elementary-pony-fun
DTSTART:20100508T150000Z
DTEND:20100508T170000Z
CATEGORIES:run, running, race, 1, mile, 5k, green, mountain, falls, ut
 e, pass, fun
LOCATION:Ute Pass Elementary
WEBSITE:http://wpmu.mssd14.org/upes/category/pony-fun-run-2010/
URL:http://wpmu.mssd14.org/upes/category/pony-fun-run-2010/
CONTACT:684-9821
ORGANIZER:UPES
ATTACH;FMTTYPE="image/jpeg":http://storage.ning.com/topology/rest/1.0/
 file/get/2842526671?profile=original
ATTENDEE;ROLE=REQ-PARTICIPANT;PARTSTAT=ACCEPTED;RSVP=TRUE;CN="Randi Hi
 tchcock":http://pikespeaksports.us/profile/RandiHitchcock
END:VEVENT
END:VCALENDAR
