BEGIN:VCALENDAR
PRODID:NingEventWidget-v1
VERSION:2.0
METHOD:PUBLISH
BEGIN:VEVENT
UID:5021591:Event:825908
DTSTAMP:20260422T210912Z
SUMMARY:USA Cycling Road Masters National Championships
DESCRIPTION:USA Cycling announced today the 2019 USA Cycling National 
 Championships schedule. With races from coast-to-coast, the country’
 s best riders will compete across each discipline to win the U.S. titl
 e. The 2019 National Championship schedule begins in March, and contin
 ues with at least one championship nearly every month, including races
  at the junior, collegiate, amateur, elite and masters levels.\n\nFor 
 more information visit http://pikespeaksports.us/events/usa-cycling-ro
 ad-masters-national-championships
DTSTART:20190808T060000Z
DTEND:20190812T055900Z
CATEGORIES:cycling
LOCATION:Colorado Springs, CO
WEBSITE:http://ColoradoSpringsSports.org
URL:http://ColoradoSpringsSports.org
CONTACT:7196347333
ORGANIZER;CN="Sports Corp":http://pikespeaksports.us/profile/SportsCor
 p
ATTACH;FMTTYPE="image/jpeg":https://storage.ning.com/topology/rest/1.0
 /file/get/910659838?profile=original
ATTENDEE;ROLE=REQ-PARTICIPANT;PARTSTAT=ACCEPTED;RSVP=TRUE;CN="Sports C
 orp":http://pikespeaksports.us/profile/SportsCorp
END:VEVENT
END:VCALENDAR
