BEGIN:VCALENDAR
PRODID:NingEventWidget-v1
VERSION:2.0
METHOD:PUBLISH
BEGIN:VEVENT
UID:5021591:Event:2726
DTSTAMP:20260422T072429Z
SUMMARY:UCCS Bash The Bluffs 5K Run/Walk
DESCRIPTION:Our annual Bash the Bluffs 5K Run/Walk is coming up soon! 
 This event is held each year in memory of Dr. Ed Burke. He was a profe
 ssor of Exercise Science at UCCS, and a close friend to the Campus Rec
 reation Department. Below is the information you need to get signed up
  for the event. If you have questions, contact Tim Stoecklein at 719.2
 55.7519.\n\nWhen/Where: April 17th, 9:00am start at the UCCS Campus Re
 creation Center (near the intersection of Austin Bluffs Pkwy & Stanton
  Rd)\nWho: Anyone and everyone! Walkers, joggers, strollers, dogs (on-
 leash)...\nRegistration/Fees:\n•Campus Community (students, faculty,
  staff) - $15.00 MUST register at the Rec Center front desk to receive
  this discount\n•Community participants - $18.00 before April 3rd...
 .......$23.00 on April 3rd or after. Registrations accepted morning of
  the event as well, starting at 7:30am.\n•Registration forms may be 
 printed and mailed to the address below. Click here for a printable ve
 rsion of the registration form.\n◦Mail to : UCCS Campus Recreation, 
 Attn: Bash the Bluffs, 1420 Austin Bluffs Pkwy, Colorado Springs, CO 8
 0918\n•Online registration is available through Active.com at the li
 nk below. Active does charge a small fee for registration through thei
 r site.\n◦Click for online registration or more information: https:/
 /www.active.com/event_detail.cfm?event_id=1843287\n•Packet pick-up -
  Packets may be picked up the night before the event at the Rec Center
  from 8:00a - 7:00pm, or morning of the event starting at 7:30am.\n•
 Other details - All participants will receive a custom-designed shirt,
  and prizes will be awarded to the top three (3) male and female finis
 hers. All participants are eligible to win door prizes as well!!\n•T
 he course - The course will begin and end at the Campus Recreation Cen
 ter, running throughout the campus. A tentative course map can be seen
  below.\n\n\n\n\nBIG THANKS to all our great sponsors for this year's 
 event!! Be sure to check out these businesses, they have done a great 
 deal to support our event as well as the community of Colorado Springs
 !!\n•Alta Vista Chiropractic - http://www.mychirorocks.com/ - GOLD L
 evel Sponsor\n•Boulder Running Company of Colorado Springs - http://
 www.boulderrunningcompany.com/boulder/ - BLACK Level Sponsor\n•Borri
 ello Brothers Pizzaria - http://www.borriellobrothers.com/ - BLACK Lev
 el Sponsor\n\nFor more information visit http://pikespeaksports.us/eve
 nts/uccs-bash-the-bluffs-5k
DTSTART:20100417T150000Z
DTEND:20100417T180000Z
CATEGORIES:5k, "run/walk"
LOCATION:UCCS Campus Recreation Center
WEBSITE:http://www.uccs.edu/~campusrec/site/fitness/index.html
URL:http://www.uccs.edu/~campusrec/site/fitness/index.html
CONTACT:719-255-7519
ORGANIZER:UCCS
ATTACH;FMTTYPE="image/jpeg":http://storage.ning.com/topology/rest/1.0/
 file/get/2842531460?profile=original
ATTENDEE;ROLE=REQ-PARTICIPANT;PARTSTAT=ACCEPTED;RSVP=TRUE;CN="Pikes Pe
 ak Sports":http://pikespeaksports.us/profile/PikesPeakSports
END:VEVENT
END:VCALENDAR
