BEGIN:VCALENDAR
PRODID:NingEventWidget-v1
VERSION:2.0
METHOD:PUBLISH
BEGIN:VEVENT
UID:5021591:Event:1864
DTSTAMP:20260422T193302Z
SUMMARY:Triathlon Transition Clinic
DESCRIPTION:Our own local pros, Branden Rakita and Haven Barnes, will 
 teach us all how to:\n\nSet up so you can flow through transition easi
 er\nGo from the swim to the bike easier\nEase going from the bike to t
 he run.\nPerform Flying Mounts and Dismounts from your bike.\nTricks a
 nd samples of lubricants and powders to use so you don't get blisters.
 \n\nBring your swim/bike/run gear to practice your transitions!\n\nThi
 s is a FREE event open to the community.\nPlease RSVP to this event vi
 a the RSVP feature or email\nnicole@pikespeaktriathlonclub.com\n\nFor 
 more information visit http://pikespeaksports.us/events/triathlon-tran
 sition-clinic
DTSTART:20100410T200000Z
DTEND:20100410T213000Z
CATEGORIES:training, clinic
LOCATION:Memorial Park Crit Course (next to the aquatic center)
WEBSITE:
URL:
CONTACT:
ORGANIZER:Pikes Peak Triathlon Club
ATTACH;FMTTYPE="image/jpeg":
ATTENDEE;ROLE=REQ-PARTICIPANT;PARTSTAT=ACCEPTED;RSVP=TRUE;CN="Guy McPh
 erson":http://pikespeaksports.us/profile/GuyMcPherson
ATTENDEE;ROLE=REQ-PARTICIPANT;PARTSTAT=ACCEPTED;RSVP=TRUE;CN="Cory Mor
 lock":http://pikespeaksports.us/profile/CoryMorlock
ATTENDEE;ROLE=REQ-PARTICIPANT;PARTSTAT=ACCEPTED;RSVP=TRUE;CN="Nicole O
 dell":http://pikespeaksports.us/profile/NicoleDrummer
END:VEVENT
END:VCALENDAR
