BEGIN:VCALENDAR
PRODID:NingEventWidget-v1
VERSION:2.0
METHOD:PUBLISH
BEGIN:VEVENT
UID:5021591:Event:1145
DTSTAMP:20260424T014930Z
SUMMARY:Trail Running Extravaganza
DESCRIPTION:Join us at Boulder Running Company this Saturday and talk 
 with Tim Parr winner of the Leadville trail 100 and Pikes Peak Ascent.
  Also meet and talk with the folks from Montrail and Northface on curr
 ent and upcoming products and gear. Nancy Hobbs, author of \"The Ultim
 ate Guide to Trail Running' will be here to talk about her book and tr
 ail running in general.\n\nFor more information visit http://pikespeak
 sports.us/events/trail-running-extravaganza
DTSTART:20100327T160000Z
DTEND:20100328T000000Z
CATEGORIES:educational, "/"
LOCATION:Boulder Running Company
WEBSITE:http://www.brccoloradosprings.com
URL:http://www.brccoloradosprings.com
CONTACT:719-278-3535
ORGANIZER;CN="Boulder Running Company":http://pikespeaksports.us/profi
 le/BoulderRunningCompany
ATTACH;FMTTYPE="image/jpeg":
ATTENDEE;ROLE=REQ-PARTICIPANT;PARTSTAT=ACCEPTED;RSVP=TRUE;CN="Boulder 
 Running Company":http://pikespeaksports.us/profile/BoulderRunningCompa
 ny
END:VEVENT
END:VCALENDAR
