BEGIN:VCALENDAR
PRODID:NingEventWidget-v1
VERSION:2.0
METHOD:PUBLISH
BEGIN:VEVENT
UID:5021591:Event:2591
DTSTAMP:20260421T210135Z
SUMMARY:Trail Cleanup
DESCRIPTION:Come one come all! PPRR's trail cleanup project is upon us
  again. Please come out and give us a hand at keeping a small section 
 of the Santa Fe trail free of debris! We start at the South West Corne
 r of the 8th St Wal Mart parking lot and walk to the Bijou St bridge. 
 There is no restriction on how far you go or how long you stay. The mo
 re the merrier! Bags are provided, gloves are recommended and smiles a
 re welcomed!\n\nFor more information visit http://pikespeaksports.us/e
 vents/trail-cleanup
DTSTART:20100424T150000Z
DTEND:20100424T170000Z
CATEGORIES:"trail cleanup"
LOCATION:South West Corner of the 8th St Wal Mart parking lot
WEBSITE:http://pprrun.org/events/TrailCleanup/main.htm
URL:http://pprrun.org/events/TrailCleanup/main.htm
CONTACT:
ORGANIZER:
ATTACH;FMTTYPE="image/jpeg":http://storage.ning.com/topology/rest/1.0/
 file/get/2842526097?profile=original
ATTENDEE;ROLE=REQ-PARTICIPANT;PARTSTAT=ACCEPTED;RSVP=TRUE;CN="Brian Mc
 Carrie":http://pikespeaksports.us/profile/virtualbrian
END:VEVENT
END:VCALENDAR
