BEGIN:VCALENDAR
PRODID:NingEventWidget-v1
VERSION:2.0
METHOD:PUBLISH
BEGIN:VEVENT
UID:5021591:Event:878552
DTSTAMP:20260422T143404Z
SUMMARY:Tour of the Moon
DESCRIPTION:ROADS AS BEAUTIFUL AS THE HIGH DESERT SCENERY\n\n\n\n\n\nT
 he Tour of the Moon was made famous in the 1980’s Coors Classic and 
 later in the cycling movie American Flyers. Its legacy continues as on
 e of the premier road cycling events in the western United States.\nTh
 e National Park Service caps our participation at 2,200, and we sell o
 ut every year, so sign up now to ensure your spot! A portion of your
  registration fee will go to support One Riverfront and Bicycle Colo
 rado.\n\n\n\n\n\n\n\nFor more information visit http://pikespeaksports
 .us/events/tour-of-the-moon
DTSTART:20220910T060000Z
DTEND:20220911T055900Z
CATEGORIES:cycling, ride
LOCATION:Grand Junction, CO
WEBSITE:https://events.outsideonline.com/tourofthemoon/
URL:https://events.outsideonline.com/tourofthemoon/
CONTACT:
ORGANIZER;CN="Roll Massif":http://pikespeaksports.us/profile/RollMassi
 f
ATTACH;FMTTYPE="image/jpeg":https://storage.ning.com/topology/rest/1.0
 /file/get/10253227279?profile=original
ATTENDEE;ROLE=REQ-PARTICIPANT;PARTSTAT=ACCEPTED;RSVP=TRUE;CN="Roll Mas
 sif":http://pikespeaksports.us/profile/RollMassif
END:VEVENT
END:VCALENDAR
