BEGIN:VCALENDAR
PRODID:NingEventWidget-v1
VERSION:2.0
METHOD:PUBLISH
BEGIN:VEVENT
UID:5021591:Event:4762
DTSTAMP:20260421T193649Z
SUMMARY:Tour of Colorado - Sunshine Hillclimb
DESCRIPTION:9.14 mile climb with over 3200 feet in elevation gain. Rid
 ers leave Boulder Center for Sports Medicine in a neutral start for th
 e first 3/10ths of a mile. The racing then starts just before the Sani
 tas Trailhead and continues up Sunshine Canyon to Mile Marker 9 - thei
 r will be 2K, 1K and 200M to go signs. Last 3.5 miles are on dirt.\n\n
 For more information visit http://pikespeaksports.us/events/tour-of-co
 lorado-sunshine
DTSTART:20100515T060000Z
DTEND:20100516T055900Z
CATEGORIES:hill, climb
LOCATION:Boulder Center for Sports Medicine
WEBSITE:http://www.boulderbikerace.com/sunshine/
URL:http://www.boulderbikerace.com/sunshine/
CONTACT:
ORGANIZER:
ATTACH;FMTTYPE="image/jpeg":http://storage.ning.com/topology/rest/1.0/
 file/get/2842533935?profile=original
ATTENDEE;ROLE=REQ-PARTICIPANT;PARTSTAT=ACCEPTED;RSVP=TRUE;CN="Brian Mc
 Carrie":http://pikespeaksports.us/profile/virtualbrian
END:VEVENT
END:VCALENDAR
