BEGIN:VCALENDAR
PRODID:NingEventWidget-v1
VERSION:2.0
METHOD:PUBLISH
BEGIN:VEVENT
UID:5021591:Event:878457
DTSTAMP:20260422T125931Z
SUMMARY:Tour de Vineyards
DESCRIPTION:RIDE COLORADO’S WINE COUNTRY\n\n\n\n\n\nDo you like ridi
 ng bikes and then drinking wine with friends? Then you will love Tour 
 de Vineyards.\nCelebrate the fall with a scenic tour of Colorado’s W
 ine Country on September 17th.  Choose between a leisurely 23-mile 
 route along the Palisade Fruit & Wine Byway or the more challenging 5
 8-mile course that adds on a loop up and over the Reeder Mesa.\nBoth r
 outes showcase the splendor of the Grand Valley and the beauty of the 
 Western Slope. Chock-full of wineries, vineyards, orchards and mesas, 
 our 27th annual sportive has a little something for everyone. After 
 a good ride, enjoy a hearty meal right at the finish line in downtown 
 Palisade and then head over to the Colorado Mountain Winefest (you w
 ill need a separate ticket), held just a few blocks away at Riverbend 
 Park.\n\n\n\n\n\n\nFor more information visit http://pikespeaksports.u
 s/events/tour-de-vineyards-1
DTSTART:20220917T060000Z
DTEND:20220918T055900Z
CATEGORIES:cycling, ride
LOCATION:Palisade, CO
WEBSITE:https://events.outsideonline.com/tourdevineyards/
URL:https://events.outsideonline.com/tourdevineyards/
CONTACT:
ORGANIZER;CN="Roll Massif":http://pikespeaksports.us/profile/RollMassi
 f
ATTACH;FMTTYPE="image/jpeg":https://storage.ning.com/topology/rest/1.0
 /file/get/10253228862?profile=original
ATTENDEE;ROLE=REQ-PARTICIPANT;PARTSTAT=ACCEPTED;RSVP=TRUE;CN="Roll Mas
 sif":http://pikespeaksports.us/profile/RollMassif
END:VEVENT
END:VCALENDAR
