BEGIN:VCALENDAR
PRODID:NingEventWidget-v1
VERSION:2.0
METHOD:PUBLISH
BEGIN:VEVENT
UID:5021591:Event:1374
DTSTAMP:20260422T224245Z
SUMMARY:Tortoise & Hare 5K Handicap Run
DESCRIPTION:Saturday\nApril 10, 2010, 9:00 am\nSouth Monument Valley P
 ark\n(near Bijou Street)\nColorado Springs, CO\n\nA unique handicap ra
 ce based on age, weight, height and gender.\n\nRace day registration o
 nly. PPRR members FREE. Non-members: $3.00.\n\nRegistration starts at 
 8:00am. Race at 9:00am.\n\nFor more information visit http://pikespeak
 sports.us/events/tortoise-hare-5k-handicap-run
DTSTART:20100410T150000Z
DTEND:20100410T170000Z
CATEGORIES:running, race
LOCATION:South Monument Valley Park (near Bijou Street)
WEBSITE:http://pprrun.org/
URL:http://pprrun.org/
CONTACT:
ORGANIZER:
ATTACH;FMTTYPE="image/jpeg":http://storage.ning.com/topology/rest/1.0/
 file/get/2842523830?profile=original
ATTENDEE;ROLE=REQ-PARTICIPANT;PARTSTAT=ACCEPTED;RSVP=TRUE;CN="Brian Mc
 Carrie":http://pikespeaksports.us/profile/virtualbrian
END:VEVENT
END:VCALENDAR
