BEGIN:VCALENDAR
PRODID:NingEventWidget-v1
VERSION:2.0
METHOD:PUBLISH
BEGIN:VEVENT
UID:5021591:Event:844997
DTSTAMP:20260422T160820Z
SUMMARY:Tonite: COS Sports &amp; Rec Expo at Ivywild School!
DESCRIPTION:Tonight: Our Last Expo of the year! Over 25 vendors repres
 enting skiing, running, cycling, SUP, indoor classes, CBD products, re
 covery solutions, coaching, local healthy foods, vacation rentals, car
 go bikes, disc golf, curling, White Water Kayaking, sunglasses, swimmi
 ng, retail, events, and more! Event is FREE to attend as well!\n\n \n
 \nAnd should you be a last minute vendor type, good news, we have one 
 spot left! Message ASAP if interested.\n\n \n\nhttps://www.facebook.c
 om/events/525537274645528/\n\n\nFor more information visit http://pike
 speaksports.us/events/tonite-cos-sports-amp-rec-expo-at-ivywild-school
DTSTART:20191121T000000Z
DTEND:20191121T030000Z
CATEGORIES:expo, and, school, wide, "party!!!"
LOCATION:Ivywild School
WEBSITE:http://www.facebook.com/activecos
URL:http://www.facebook.com/activecos
CONTACT:
ORGANIZER;CN="Jon Severson":http://pikespeaksports.us/profile/JonSever
 son
ATTACH;FMTTYPE="image/jpeg":https://storage.ning.com/topology/rest/1.0
 /file/get/3722067934?profile=original
ATTENDEE;ROLE=REQ-PARTICIPANT;PARTSTAT=ACCEPTED;RSVP=TRUE;CN="Jon Seve
 rson":http://pikespeaksports.us/profile/JonSeverson
END:VEVENT
END:VCALENDAR
