BEGIN:VCALENDAR
PRODID:NingEventWidget-v1
VERSION:2.0
METHOD:PUBLISH
BEGIN:VEVENT
UID:5021591:Event:8902
DTSTAMP:20260420T092627Z
SUMMARY:THURSDAY NIGHT PUB CRAWL !!
DESCRIPTION:so the COS Bike Pub Crawl is a weekly event here in Colora
 do Springs. Every Thursday evening we assimilate downtown around 8:30 
 for some great food and drink specials at La'au's Taco Shop.\n\nFrom t
 here no crawl is the same! Every Thursday we carouse around the local 
 downtown bar scene. During the main 'crawl season' (which we define by
  the months of May thru October) expect Theme Crawls on the first Thur
 sday of each month!\n\nAs always Theme Crawls will include optional ra
 cing stages between bars stops. Oh yes, good games & good times!\n\nSo
  come join us this Thursday for some much needed cruiser time!\n\nFor 
 more information visit http://pikespeaksports.us/events/thursday-night
 -pub-crawl
DTSTART:20100611T023000Z
DTEND:20100611T080000Z
CATEGORIES:pub, crawl
LOCATION:downtown
WEBSITE:http://www.cosbikepubcrawl.com
URL:http://www.cosbikepubcrawl.com
CONTACT:
ORGANIZER;CN="COS Bike Pub Crawl":http://pikespeaksports.us/profile/CO
 SBikePubCrawl
ATTACH;FMTTYPE="image/jpeg":
ATTENDEE;ROLE=REQ-PARTICIPANT;PARTSTAT=ACCEPTED;RSVP=TRUE;CN="COS Bike
  Pub Crawl":http://pikespeaksports.us/profile/COSBikePubCrawl
END:VEVENT
END:VCALENDAR
