BEGIN:VCALENDAR
PRODID:NingEventWidget-v1
VERSION:2.0
METHOD:PUBLISH
BEGIN:VEVENT
UID:5021591:Event:5034
DTSTAMP:20260422T085100Z
SUMMARY:The Salvation Army's Second Annual 5K Run/Walk for Hope
DESCRIPTION:A 5K Run and walk at beautiful Barefoot Park at Flying Hor
 se. Fun for the whole family. Activities for kids. All proceeds benefi
 t the programs and services of your local Salvation Army. Join in a fu
 n event to help a great cause in our community. This run will help res
 tore hope to many who are suffering in this economy.\nRegister at acti
 ve.com\n\n\nClick here for map.\n\nFor more information visit http://p
 ikespeaksports.us/events/the-salvation-armys-second
DTSTART:20100522T160000Z
DTEND:20100522T190000Z
CATEGORIES:5k, "run/walk"
LOCATION:Flying Horse, Colorado Springs
WEBSITE:http://www.tsacs.org/
URL:http://www.tsacs.org/
CONTACT:278-3535
ORGANIZER;CN="Tim Bergsten":http://pikespeaksports.us/profile/TimBergs
 ten
ATTACH;FMTTYPE="image/jpeg":http://storage.ning.com/topology/rest/1.0/
 file/get/2842533311?profile=original
ATTENDEE;ROLE=REQ-PARTICIPANT;PARTSTAT=ACCEPTED;RSVP=TRUE;CN="Tim Berg
 sten":http://pikespeaksports.us/profile/TimBergsten
END:VEVENT
END:VCALENDAR
