BEGIN:VCALENDAR
PRODID:NingEventWidget-v1
VERSION:2.0
METHOD:PUBLISH
BEGIN:VEVENT
UID:5021591:Event:846090
DTSTAMP:20260422T100311Z
SUMMARY:The Great Inflatable Race
DESCRIPTION:The Great Inflatable Race is the first and original all in
 flatable obstacle fun run that uses giant inflatables spread throughou
 t the running course.  You’ll start the race climbing one of our in
 flatables and then race your friends and family to the next inflatable
  obstacle. This bouncy course contains between 8-10 massive inflatable
 s that will bounce, bump and slide you all over the place! You’ll fi
 nish the race with a perfect photo op on our final inflatable, and aft
 er a nice refreshing drink, you can check out our awesome Inflatable V
 illage.  Check out our Inflatable Village page to see what the afte
 r party is all about!\nOur inflatables are one of a kind, and your who
 le family will enjoy this amazing run. Bring your kids and feel like a
  kid again yourself. Join us at The Great Inflatable Race!\n\nFor more
  information visit http://pikespeaksports.us/events/the-great-inflatab
 le-race
DTSTART:20200725T130000Z
DTEND:20200726T010000Z
CATEGORIES:inflatable, fun, run
LOCATION:Memorial Park
WEBSITE:http://www.coloradospringssports.org/great-inflatable-race/
URL:http://www.coloradospringssports.org/great-inflatable-race/
CONTACT:7196347333
ORGANIZER;CN="Sports Corp":http://pikespeaksports.us/profile/SportsCor
 p
ATTACH;FMTTYPE="image/jpeg":https://storage.ning.com/topology/rest/1.0
 /file/get/4364447392?profile=original
ATTENDEE;ROLE=REQ-PARTICIPANT;PARTSTAT=ACCEPTED;RSVP=TRUE;CN="Sports C
 orp":http://pikespeaksports.us/profile/SportsCorp
END:VEVENT
END:VCALENDAR
