BEGIN:VCALENDAR
PRODID:NingEventWidget-v1
VERSION:2.0
METHOD:PUBLISH
BEGIN:VEVENT
UID:5021591:Event:5499
DTSTAMP:20260420T044804Z
SUMMARY:The Colorado Running Company's 10th Anniversary Celebration!
DESCRIPTION:10 years, and still running strong!!!\n\nAs a thank you to
  our customers, come help us celebrate 10 great years! The final two d
 ays of the Garden of the Gods 10 Mile packet pick up (Friday 6/11 & Sa
 turday 6/12), come by the store for food, music, sales and vendor clin
 ics!\n\nFor more information visit http://pikespeaksports.us/events/th
 e-colorado-running-companys
DTSTART:20100612T030000Z
DTEND:20100613T000000Z
CATEGORIES:anniversary
LOCATION:CRC
WEBSITE:http://www.corunco.com/
URL:http://www.corunco.com/
CONTACT:635-3833
ORGANIZER:
ATTACH;FMTTYPE="image/jpeg":
ATTENDEE;ROLE=REQ-PARTICIPANT;PARTSTAT=ACCEPTED;RSVP=TRUE;CN="Teresa B
 rown":http://pikespeaksports.us/profile/TeresaBrown
ATTENDEE;ROLE=REQ-PARTICIPANT;PARTSTAT=ACCEPTED;RSVP=TRUE;CN="Tim Berg
 sten":http://pikespeaksports.us/profile/TimBergsten
ATTENDEE;ROLE=REQ-PARTICIPANT;PARTSTAT=ACCEPTED;RSVP=TRUE;CN="Randi Hi
 tchcock":http://pikespeaksports.us/profile/RandiHitchcock
END:VEVENT
END:VCALENDAR
