BEGIN:VCALENDAR
PRODID:NingEventWidget-v1
VERSION:2.0
METHOD:PUBLISH
BEGIN:VEVENT
UID:5021591:Event:846094
DTSTAMP:20260422T083206Z
SUMMARY:The Chyenne Mountain Run
DESCRIPTION:The Cheyenne Mountain Run on October 10, 2020 will feature
  3 trail races 25K to the top of Cheyenne Mountain for the more advanc
 ed trail runner10K for experienced runners 5K trail run/walk for all t
 o enjoy\n              NEW for 2020:1. PIKES PEAK ASCENT QUALIF
 IERThe Cheyenne Mountain Run 25K is a qualifying race for the 2021 Pik
 es Peak Ascent. To qualify a runner must finish the 25K within the cut
  off time of 2.5 times the overall male and female finish times, respe
 ctively, winner’s time.\n\nSTATE PARK TRIPLE SERIESPresenting the se
 cond Colorado State Park Run Series- “Run the Plains, then into the 
 Canyon, and finish with the Mountain”. Three exciting races to exper
 ience for a reduced price.• The Raptor Run – September 12th – Ba
 rr Lake State Park – 5k• The Dam Run at Castlewood Canyon – Sept
  20th – Castlewood Canyon State Park – 10k• The Cheyenne Mountai
 n Run – Oct 10th – Cheyenne Mountain State Park – 10k\nSTATE PAR
 K DUO SERIES – RUN THE CANYON THEN THE MOUNTAIN!Want to double your 
 running experience at Colorado state parks? Two exciting races to expe
 rience for a reduced price.• The Dam Run at Castlewood Canyon – Se
 pt 20th – Castlewood Canyon State Park – 5K or 10K.• The Cheyenn
 e Mountain Run – Oct 10th – Cheyenne Mountain State Park – 5K, 1
 0K or 25K\n\nShort Series: The Dam Run at Castlewood Canyon 5K and the
  Cheyenne Mountain 5K RunPresent to August 15th: $50 for both runsAfte
 r Aug 15th to September 19th: $55 for both runsMedium Series: The Dam 
 Run at Castlewood Canyon 10K and the Cheyenne Mountain 10K RunPresent 
 to August 15th: $80 for both runsAfter Aug 15th to September 19th: $10
 0 for both runsLong Series: The Dam Run at Castlewood Canyon 10K and t
 he Cheyenne Mountain Run 25KPresent to August 15th: $95 for both runsA
 fter August 15th to September 19th: $115 for both runsALL EVENTS SPONS
 ORED BY 501(C)3 NONPROFIT ORGANIZATIONS. ALL PROCEEDS FROM THESE RACES
  SUPPORT THE THREE STATE PARKS thought their FRIENDS ORGANIZATIONS!Com
 plete details at Friendsofcmsp.org or runsignup.com/Race/CO/ColoradoSp
 rings/TheCheyenneMountainRun\n\nFor more information visit http://pike
 speaksports.us/events/the-chyenne-mountain-run
DTSTART:20201010T150000Z
DTEND:20201010T210000Z
CATEGORIES:fundraiser, -, trail, run
LOCATION:Cheyenne Mountain State Park
WEBSITE:http://friendsofcmsp.org/?page_id=957
URL:http://friendsofcmsp.org/?page_id=957
CONTACT:719-332-0574
ORGANIZER:Friends of Cheyenne Mountain State Park
ATTACH;FMTTYPE="image/jpeg":https://storage.ning.com/topology/rest/1.0
 /file/get/4414166211?profile=original
ATTENDEE;ROLE=REQ-PARTICIPANT;PARTSTAT=ACCEPTED;RSVP=TRUE;CN="Pat Coop
 er":http://pikespeaksports.us/profile/PatCooper
END:VEVENT
END:VCALENDAR
