BEGIN:VCALENDAR
PRODID:NingEventWidget-v1
VERSION:2.0
METHOD:PUBLISH
BEGIN:VEVENT
UID:5021591:Event:872887
DTSTAMP:20260422T083406Z
SUMMARY:The Cheyennne Mountain Run
DESCRIPTION:The Cheyenne Mountain Run on October 9, 2021 will feature 
 3 trail races, a 25K to the top of Cheyenne Mountain for the more adva
 nced trail runner, a 10K for experienced runners and a 5K trail run fo
 r all to enjoy.\nNEW for 2021: 1. PIKES PEAK ASCENT QUALIFIER The Chey
 enne Mountain Run 25K is a qualifying race for the 2021 Pikes Peak Asc
 ent. To qualify a runner must finish the 25K within the cut off time o
 f 2.5 times the overall male and female finish times, respectively, wi
 nnerâ€™s time. 2. Discounts for Friends of Cheyenne Mountain State Par
 k 3.Â  Awards for finishers\nTop 3 Men & Women Overall prizes furnishe
 d by Mountain Chalet\n1st Place â€” $100 Gift CertificateÂ  2nd Place 
 â€” $75 Gift CertificateÂ  3rd Place â€” $50 Gift CertificateÂ  Recogn
 ition of Age Group FinishersÂ furnished by Colorado Running CO\nMedals
  for all 25K for finisher\nThis event is sponsored by a 501(C) 3 NONPR
 OFIT ORGANIZATION, Friends of Cheyenne Mountain State Park.Â Â  ALL pr
 oceeds from this race support CHEYENNE MOUNTAIN STATE PARK.Â  Â \nÂ  C
 omplete details at Friendsofcmsp.org Â Â Â \nPacket Pick up: Cheyenne 
 Mountain State Park-Visitor Center Oct 8, 2021-Noon until 2:30 PM (Fri
 day) Race Day pick-up at 7:30 AM Walk-in Registration (Friday) Oct 8, 
 2021 and race dayÂ \nÂ Cost:\n25K Â  â€“ Â  Â  Â  Â  Â  Â  Â  $ 60 Aft
 er Sept 8th: Â $ 70 Race Day: Â  Â  Â  Â  $ 80\n10K â€“ Â  Â  Â  Â  Â 
  Â  Â  Â  $ 45 After Sept 8th: Â  $ 50 Race Day: Â  Â  Â  Â  $ 55\n5K 
 Â  Â  Â  Â  Â  Â  Â  Â  Â  Â  $ 35 After Sept 8th: Â  $ 40 Race Day: Â
   Â  Â  Â  $ 45\nÂ \n\nFor more information visit http://pikespeakspor
 ts.us/events/the-cheyennne-mountain-run
DTSTART:20211009T150000Z
DTEND:20211009T200000Z
CATEGORIES:trail, run
LOCATION:Cheyenne Mountain State Park
WEBSITE:http://friendsofcmsp.org/?page_id=957
URL:http://friendsofcmsp.org/?page_id=957
CONTACT:â€­(719) 322-0574â€¬
ORGANIZER:Friends of Cheyenne Mountain State Park
ATTACH;FMTTYPE="image/jpeg":https://storage.ning.com/topology/rest/1.0
 /file/get/8697523870?profile=original
ATTENDEE;ROLE=REQ-PARTICIPANT;PARTSTAT=ACCEPTED;RSVP=TRUE;CN="Pat Coop
 er":http://pikespeaksports.us/profile/PatCooper
ATTENDEE;ROLE=REQ-PARTICIPANT;PARTSTAT=ACCEPTED;RSVP=TRUE;CN="Randall 
 Coan":http://pikespeaksports.us/profile/RandallCoan
END:VEVENT
END:VCALENDAR
