BEGIN:VCALENDAR
PRODID:NingEventWidget-v1
VERSION:2.0
METHOD:PUBLISH
BEGIN:VEVENT
UID:5021591:Event:895158
DTSTAMP:20260422T052443Z
SUMMARY:The Cheyenne Mountain Run
DESCRIPTION:Join us for our 10th year celebration with special activit
 ies for the 10th anniversary.\nStarting at 6,000 feet elevation, CMR i
 s chip-timed race for beginning to advanced runners with 25K, 10K, and
  5K events and a staggered start time of 7 am for all events. \nTHIS 
 IS THE ONLY RACE TO THE TOP OF CHEYENNE MOUNTAIN\nThe Cheyenne Mountai
 n Run 25K is a qualifying race for the 2026 Pikes Peak Ascent (PPA).\n
 This race is a fundraiser for The Friends of Cheyenne Mountain State P
 ark and is made to celebrate the park we know and love.\nAfter you reg
 ister, you can receive cash back for referrals.\n\nFor more informatio
 n visit http://pikespeaksports.us/events/the-cheyenne-mountain-run-5
DTSTART:20250816T130000Z
DTEND:20250816T180000Z
CATEGORIES:fundraiser
LOCATION:Cheyenne Mountain State Park
WEBSITE:https://runsignup.com/Race/CO/ColoradoSprings/TheCheyenneMount
 ainRun
URL:https://runsignup.com/Race/CO/ColoradoSprings/TheCheyenneMountainR
 un
CONTACT:719-963-4654
ORGANIZER:Friends of Cheyenne Mountain State Park
ATTACH;FMTTYPE="image/jpeg":https://storage.ning.com/topology/rest/1.0
 /file/get/13521005062?profile=original
ATTENDEE;ROLE=REQ-PARTICIPANT;PARTSTAT=ACCEPTED;RSVP=TRUE;CN="Pat Coop
 er":http://pikespeaksports.us/profile/PatCooper
END:VEVENT
END:VCALENDAR
