BEGIN:VCALENDAR
PRODID:NingEventWidget-v1
VERSION:2.0
METHOD:PUBLISH
BEGIN:VEVENT
UID:5021591:Event:835592
DTSTAMP:20260422T083258Z
SUMMARY:The Cheyenne Mountain Run
DESCRIPTION:This event features two trail runs, one for the more advan
 ce trail runner and a 3 mile run for all to enjoy. \nIn the Fall of 2
 018, the Dixon Trail was opened at Cheyenne Mountain State Park in Col
 orado Springs, CO. This trail race will provide runners with a challen
 ging  25k in length. Starting elevation at Limekiln parking lot is 6
 ,060’ and the turn around elevation is approximately 9,200’. There
 fore approximately 3,200 gain and loss.      The 25k will start at
  the Limekiln parking lot, west of the entrance to the state park and 
 entrance fee gate. The racecourse heads west on Talon Trail, turns on
 to North Talon, at about 3.3 miles turns onto the Dixon Trail (DT). R
 unners will then follow the DT to the top meadow and will briefly turn
  onto Mountain Loop Trail and start a counterclockwise loop. This incl
 udes an uphill section on a rocky jeep trail to the top and end point 
 of the DT. At the top of the DT at an elevation of 9,200 feet runners 
 will turn left and run downhill for the entire 4.5 miles of the DT and
  return to the Limekiln Trailhead finish line.       .  Due to th
 e safety of both runners and volunteers, CUT-OFF TIME of 10:45 AM to 
 reach the Dixon saddle will be enforced (located 2.5 miles from start
  of Dixon and 5.8 miles from Start line). The finish line timing stat
 ion will be closed at 2:30 PM.  \nThe 3 Mile race will start at 9:30 
 AM and will follow the Talon trail to the Sundance trail junction at a
 bout 1.5 miles.  The 3M race will turn right onto the Sundance trail 
 and return to the finish at the Limekiln trailhead.  This is a loop c
 ourse with one water stop at the Talon/Sundance junction. \nCost:\nHa
 lf Marathon $50 Price increase after September 11, 2019 Start Time 9:0
 0 AM\n3 Mile $25 Price increase after Sept 11, 2019 Start Time: 9:30 A
 M\nNEW for 2019 “State Park Duo Series” -Run the Canyon then the M
 ountain!\nTwo exciting races to experience for a reduced price!\nThe D
 am Run at Castlewood Canyon – Sept 15th – Castlewood Canyon State 
 Park PLUS The Cheyenne Mountain Run – Oct 12th – Cheyenne Mountain
  State Park\nRegistration options:\nSHORT SERIES Dam Run 5k + The CMR 
 3M       $50\n                After August 15th u
 ntil Sept 14th     $55\nLONG SERIES-Dam Run 10k + The CMR 25k  
    $85\n       After August 15th until Sept 14th      
       $100\n\nFor more information visit http://pikespeaksports.
 us/events/the-cheyenne-mountain-run-4
DTSTART:20191012T150000Z
DTEND:20191012T200000Z
CATEGORIES:trail, run, fun, fundraiser, wilderness
LOCATION:Cheyenne Mountain State Park
WEBSITE:https://www.google.com/maps/place/Cheyenne+Mountain+State+Park
 /@38.7097737,-104.8403106,13.1z/data=!4m5!3m4!1s0x871342c50fa13659:0x2
 d6160d05a2ec181!8m2!3d38.7291548!4d-104.83288
URL:https://www.google.com/maps/place/Cheyenne+Mountain+State+Park/@38
 .7097737,-104.8403106,13.1z/data=!4m5!3m4!1s0x871342c50fa13659:0x2d616
 0d05a2ec181!8m2!3d38.7291548!4d-104.83288
CONTACT:719-322-0574
ORGANIZER:Pat Cooper and Dick Standaert
ATTACH;FMTTYPE="image/jpeg":https://storage.ning.com/topology/rest/1.0
 /file/get/3379351416?profile=original
ATTENDEE;ROLE=REQ-PARTICIPANT;PARTSTAT=ACCEPTED;RSVP=TRUE;CN="Pat Coop
 er":http://pikespeaksports.us/profile/PatCooper
END:VEVENT
END:VCALENDAR
