BEGIN:VCALENDAR
PRODID:NingEventWidget-v1
VERSION:2.0
METHOD:PUBLISH
BEGIN:VEVENT
UID:5021591:Event:825812
DTSTAMP:20260423T030705Z
SUMMARY:The Broadmoor Pikes Peak International Hill Climb
DESCRIPTION:The Broadmoor Pikes Peak International Hill Climb (PPIHC),
  brought to you by Gran Turismo, also known as The Race to the Clouds,
  is an invitational automobile and motorcycle hill climb to the summit
  of Pikes Peak – America’s Mountain in Colorado, USA held annually
  on the last Sunday of June. Founded in 1916 by Spencer Penrose (also 
 the founder of The Broadmoor Hotel, Pikes Peak Highway and El Pomar Fo
 undation), The Broadmoor PPIHC takes place on a 12.42 mile (19.99 km) 
 public toll-road boasting 156 turns, while competitors climb 4,720 ft.
  (1,440 m.) from the 9,390 ft. (2,862 m.) Start Line at Mile 7 marker 
 on the Pikes Peak Highway to the 14,115 ft. (4,300 m) Finish Line at t
 he mountain’s summit. As the drivers climb toward the summit, the th
 in air slows reflexes and saps competitor’s mental and muscle streng
 th in addition to robbing internal combustion engines of up to 30% of 
 the power they are capable of at the Start Line. Competitors and vehic
 les must be in top shape and condition simply to finish, let alone win
 . The race is self-sanctioned and is the most diverse one day motorspo
 rts event in the world.\n\nFor more information visit http://pikespeak
 sports.us/events/the-broadmoor-pikes-peak-international-hill-climb-3
DTSTART:20190630T060000Z
DTEND:20190701T055900Z
CATEGORIES:autosports
LOCATION:Pikes Peak - America's Mountain
WEBSITE:http://ppihc.org
URL:http://ppihc.org
CONTACT:7196347333
ORGANIZER;CN="Sports Corp":http://pikespeaksports.us/profile/SportsCor
 p
ATTACH;FMTTYPE="image/jpeg":https://storage.ning.com/topology/rest/1.0
 /file/get/910656938?profile=original
ATTENDEE;ROLE=REQ-PARTICIPANT;PARTSTAT=ACCEPTED;RSVP=TRUE;CN="Sports C
 orp":http://pikespeaksports.us/profile/SportsCorp
END:VEVENT
END:VCALENDAR
