BEGIN:VCALENDAR
PRODID:NingEventWidget-v1
VERSION:2.0
METHOD:PUBLISH
BEGIN:VEVENT
UID:5021591:Event:825913
DTSTAMP:20260422T193814Z
SUMMARY:The Broadmoor Pikes Peak Cycling Hill Climb
DESCRIPTION:The Broadmoor Pikes Peak Cycling Hill Climb Gran Fondo fea
 tures a non-competitive fun rides that give cyclists of all abilities 
 a truly unique experience on Pikes Peak - America's Mountain. This eve
 nt will be held on Saturday, August 10, 2019. Created in 2010, this ye
 ar marks the 10th consecutive year of The Broadmoor Pikes Peak Cycling
  Hill Climb, an annual event of the Colorado Springs Sports Corporatio
 n. This event attracts the top competitive and recreational cyclists f
 rom across the nation and around the world.\n\nFor more information vi
 sit http://pikespeaksports.us/events/the-broadmoor-pikes-peak-cycling-
 hill-climb-3
DTSTART:20190810T104500Z
DTEND:20190810T154500Z
CATEGORIES:cycling
LOCATION:Pikes Peak - America's Mountain
WEBSITE:http://ColoradoSpringsSports.org
URL:http://ColoradoSpringsSports.org
CONTACT:7196347333
ORGANIZER;CN="Sports Corp":http://pikespeaksports.us/profile/SportsCor
 p
ATTACH;FMTTYPE="image/jpeg":https://storage.ning.com/topology/rest/1.0
 /file/get/910664876?profile=original
ATTENDEE;ROLE=REQ-PARTICIPANT;PARTSTAT=ACCEPTED;RSVP=TRUE;CN="Sports C
 orp":http://pikespeaksports.us/profile/SportsCorp
END:VEVENT
END:VCALENDAR
