BEGIN:VCALENDAR
PRODID:NingEventWidget-v1
VERSION:2.0
METHOD:PUBLISH
BEGIN:VEVENT
UID:5021591:Event:3310
DTSTAMP:20260421T193217Z
SUMMARY:\"The Bicyclists\" movie screening Saturday and Sunday
DESCRIPTION:A twenty-something Conrad Miller leaves a small town in Wi
 sconsin, promising himself sixty days to make lasting memories before 
 he returns home to take over his parent’s cheese factory. Conrad jou
 rneys to Portland, attracted to its vibrant urban bike culture and bea
 utiful scenery. Conrad makes valuable friendships and has a decidedly 
 modern love affair. This simple story reveals unexpected turns and dar
 ker elements as the sixty-day timeline counts down. In person: Carl Ja
 meson and Sharon Jameson.\n\nFor more information visit http://pikespe
 aksports.us/events/the-bicyclists-movie-screening
DTSTART:20100424T224500Z
DTEND:20100425T180000Z
CATEGORIES:movie
LOCATION:Kimballs Theater
WEBSITE:http://kimballstwinpeak.com/index.cfm
URL:http://kimballstwinpeak.com/index.cfm
CONTACT:447-1945
ORGANIZER:Kimballs Theater
ATTACH;FMTTYPE="image/jpeg":http://storage.ning.com/topology/rest/1.0/
 file/get/2842531556?profile=original
ATTENDEE;ROLE=REQ-PARTICIPANT;PARTSTAT=ACCEPTED;RSVP=TRUE;CN="Nicole O
 dell":http://pikespeaksports.us/profile/NicoleDrummer
ATTENDEE;ROLE=REQ-PARTICIPANT;PARTSTAT=ACCEPTED;RSVP=TRUE;CN="Pikes Pe
 ak Sports":http://pikespeaksports.us/profile/PikesPeakSports
END:VEVENT
END:VCALENDAR
