BEGIN:VCALENDAR
PRODID:NingEventWidget-v1
VERSION:2.0
METHOD:PUBLISH
BEGIN:VEVENT
UID:5021591:Event:24104
DTSTAMP:20260423T124145Z
SUMMARY:The 55th Pikes Peak Marathon
DESCRIPTION:The 55th running of the Pikes Peak Marathon is set for 7 a
 .m., Aug. 22. Pikes Peak Marathon Selected for This year, the marathon
  is part of the International Sky Running Association's Skyrunner® Wo
 rld Series, which includes 14 races. About 7,000 runners from at least
  37 countries will compete in Skyrunner races this year. To concentrat
 e the competition among top athletes, five major races have been selec
 ted together with nine trials. The Pikes Peak Marathon will be one of 
 the five major races along with premier races in France, Italy, Spain 
 and Malaysia.\n\nFor more information visit http://pikespeaksports.us/
 events/the-55th-pikes-peak-marathon
DTSTART:20100822T130000Z
DTEND:20100822T200000Z
CATEGORIES:marathon
LOCATION:Manitou Springs, Barr Trail, Pikes Peak
WEBSITE:http://www.pikespeakmarathon.org/
URL:http://www.pikespeakmarathon.org/
CONTACT:
ORGANIZER;CN="Tim Bergsten":http://pikespeaksports.us/profile/TimBergs
 ten
ATTACH;FMTTYPE="image/jpeg":http://storage.ning.com/topology/rest/1.0/
 file/get/2656422067?profile=original
ATTENDEE;ROLE=REQ-PARTICIPANT;PARTSTAT=ACCEPTED;RSVP=TRUE;CN="John Lee
 ":http://pikespeaksports.us/profile/JohnLee
ATTENDEE;ROLE=REQ-PARTICIPANT;PARTSTAT=ACCEPTED;RSVP=TRUE;CN="Joe Polo
 nsky":http://pikespeaksports.us/profile/JoePolonsky
ATTENDEE;ROLE=REQ-PARTICIPANT;PARTSTAT=ACCEPTED;RSVP=TRUE;CN="Rebekka 
 Hannula":http://pikespeaksports.us/profile/RebekkaHannula
ATTENDEE;ROLE=REQ-PARTICIPANT;PARTSTAT=ACCEPTED;RSVP=TRUE;CN="Tim Berg
 sten":http://pikespeaksports.us/profile/TimBergsten
END:VEVENT
END:VCALENDAR
