BEGIN:VCALENDAR
PRODID:NingEventWidget-v1
VERSION:2.0
METHOD:PUBLISH
BEGIN:VEVENT
UID:5021591:Event:4704
DTSTAMP:20260420T160728Z
SUMMARY:The 3rd Annual Max Silver Little Dipper Pool Fun Run
DESCRIPTION:Max Silver was the kid who maxed out on life. He loved his
  family, his friends and having fun. He packed more into 18 years than
  many do in 80. Max lived life to its fullest. Come on out to Cheyenne
  Mountain High School on June 5 to help us celebrate Max's life at the
  3rd Annual Max Silver Little Dipper Pool Fun Run at Cheyenne Mountain
  High School.\nRegister at www.Active.com.\nEveryone who registers by 
 May 21 is guaranteed to receive a T-shirt.\nEarly registration is $15 
 for kids 12 and under, $20 for adults, or $20 for kids and $25 for adu
 lts on race day.\nProceeds will be split between future Little Dipper 
 Pool improvements and the Maxwell Silver Fund at the Pikes Peak Commun
 ity Foundation. Tax deductible donations can be made to the Maxwell Si
 lver Fund by visiting www.ppcf.org to benefit writing students at Fort
  Lewis College as they foster their passion for words. Max, was a stud
 ent at Fort Lewis when he passed away, loved writing and had a natural
  talent for expressing himself on paper. He also loved Little Dipper P
 ool where he had worked as a lifeguard.\nAfter the race, everyone is i
 nvited to Little Dipper for food, games and fun.\n\nFor more informati
 on visit http://pikespeaksports.us/events/the-3rd-annual-max-silver
DTSTART:20100605T143000Z
DTEND:20100605T160000Z
CATEGORIES:5k, and, "1.6-mile", fun, run
LOCATION:Cheyenne Mountain High School track
WEBSITE:
URL:
CONTACT:
ORGANIZER;CN="Pikes Peak Sports":http://pikespeaksports.us/profile/Pik
 esPeakSports
ATTACH;FMTTYPE="image/jpeg":http://storage.ning.com/topology/rest/1.0/
 file/get/2842535607?profile=original
ATTENDEE;ROLE=REQ-PARTICIPANT;PARTSTAT=ACCEPTED;RSVP=TRUE;CN="Enrique 
 Rhoden":http://pikespeaksports.us/profile/EnriqueRhoden
ATTENDEE;ROLE=REQ-PARTICIPANT;PARTSTAT=ACCEPTED;RSVP=TRUE;CN="Lori Hil
 l":http://pikespeaksports.us/profile/LoriHill
ATTENDEE;ROLE=REQ-PARTICIPANT;PARTSTAT=ACCEPTED;RSVP=TRUE;CN="Boulder 
 Running Company":http://pikespeaksports.us/profile/BoulderRunningCompa
 ny
ATTENDEE;ROLE=REQ-PARTICIPANT;PARTSTAT=ACCEPTED;RSVP=TRUE;CN="Charlie 
 Dunn":http://pikespeaksports.us/profile/CharlieDunn
ATTENDEE;ROLE=REQ-PARTICIPANT;PARTSTAT=ACCEPTED;RSVP=TRUE;CN="Pikes Pe
 ak Sports":http://pikespeaksports.us/profile/PikesPeakSports
END:VEVENT
END:VCALENDAR
