BEGIN:VCALENDAR
PRODID:NingEventWidget-v1
VERSION:2.0
METHOD:PUBLISH
BEGIN:VEVENT
UID:5021591:Event:2130
DTSTAMP:20260421T080633Z
SUMMARY:Team In Training Information Meeting
DESCRIPTION:Join us to learn more about the Rocky Mountain Chapter's T
 eam In Training ®, the world's largest sports training program. We wi
 ll provide information on training, fundraising, travel and explain ho
 w participating in TNT will change your life. Our coaches, staff, alum
 ni, and cancer survivors look forward to meeting you and answering you
 r questions.\n\nPlease complete our Tell Me More form at http://www.te
 amintraining.org/rm or call us at (303) 984-2110 to get signed up for 
 an information meeting right away. Don't wait to start the experience 
 of a lifetime!\n\nFor more information visit http://pikespeaksports.us
 /events/team-in-training-information-3
DTSTART:20100504T000000Z
DTEND:20100504T013000Z
CATEGORIES:information
LOCATION:REI Colorado Springs
WEBSITE:http://www.rei.com/map/store/68
URL:http://www.rei.com/map/store/68
CONTACT:
ORGANIZER:Team In Training
ATTACH;FMTTYPE="image/jpeg":http://storage.ning.com/topology/rest/1.0/
 file/get/2842526915?profile=original
ATTENDEE;ROLE=REQ-PARTICIPANT;PARTSTAT=ACCEPTED;RSVP=TRUE;CN="Nicole O
 dell":http://pikespeaksports.us/profile/NicoleDrummer
END:VEVENT
END:VCALENDAR
