BEGIN:VCALENDAR
PRODID:NingEventWidget-v1
VERSION:2.0
METHOD:PUBLISH
BEGIN:VEVENT
UID:5021591:Event:2624
DTSTAMP:20260421T065531Z
SUMMARY:Take 5 in the Garden. 5k and 5 mile
DESCRIPTION:During these two runs, over 500 runners brave the cold, th
 e rain, the snow, or sunshine, and the early hour on an early May morn
 ing to challenge themselves in this tough and beautiful venue. This gr
 eat run takes you up and down hills and through the Crown Jewel of the
  Colorado Springs park system.\n\nFor more information visit http://pi
 kespeaksports.us/events/take-5-in-the-garden-5k-and-5
DTSTART:20100501T140000Z
DTEND:20100501T160000Z
CATEGORIES:"running race", 5k, "5 miler"
LOCATION:Garden of the Gods
WEBSITE:http://www.csgrandprix.com/garden.html
URL:http://www.csgrandprix.com/garden.html
CONTACT:
ORGANIZER:
ATTACH;FMTTYPE="image/jpeg":http://storage.ning.com/topology/rest/1.0/
 file/get/2842523830?profile=original
ATTENDEE;ROLE=REQ-PARTICIPANT;PARTSTAT=ACCEPTED;RSVP=TRUE;CN="Terry Mo
 ntgomery":http://pikespeaksports.us/profile/TerryMontgomery
ATTENDEE;ROLE=REQ-PARTICIPANT;PARTSTAT=ACCEPTED;RSVP=TRUE;CN="Brian Mc
 Carrie":http://pikespeaksports.us/profile/virtualbrian
END:VEVENT
END:VCALENDAR
