BEGIN:VCALENDAR
PRODID:NingEventWidget-v1
VERSION:2.0
METHOD:PUBLISH
BEGIN:VEVENT
UID:5021591:Event:29991
DTSTAMP:20260423T125332Z
SUMMARY:Susan G. Komen Race for the Cure
DESCRIPTION:Please plan to participate in the Susan G. Komen Race for 
 the Cure 5K Run/Wal beginning at 8 a.m. Sunday, Sept. 12.\nThis is one
  of the biggest and best fundraising events each year.\nRegsiter at th
 e event website.\nAbout the event: \"The Susan G. Komen Race for the C
 ure® Series, the largest series of 5K runs/fitness walks in the world
 , raises significant funds and awareness for the fight against breast 
 cancer, celebrates breast cancer survivorship and honors those who hav
 e lost their battle with the disease. Since its inception in 1983, the
  Komen Race for the Cure series has grown from one local Race with 800
  participants to a global series of more than 120 Races with more than
  1 million people expected to participate in 2010.\n\nThe Komen Race f
 or the Cure is a unique event, designed and implemented to promote pos
 itive awareness, education and early detection of breast cancer. It ha
 s proved to be an enormously effective way to reach many women and men
  with the message that breast cancer is not necessarily fatal if mammo
 graphy and breast self-exam become routine. As well as being a road ra
 ce for runners, the Komen Race for the Cure is an emotionally charged 
 event that attracts many first timers and recreational runners. The Ko
 men Race for the Cure is an opportunity for thousands of women, men an
 d their families, running or walking, to spread the breast cancer mess
 age within their communities.\n\nSeventy-five percent of the net funds
  raised at the Race remain here in the Komen Southeastern Colorado Aff
 iliate to provide breast health research, diagnostics, screening, trea
 tment, services and education for uninsured or underinsured women. The
  remaining 25 percent goes to fund national research to discover the c
 auses of breast cancer and, ultimately, its cures.\nWhy we need your s
 upport:\n\nEvery step counts! Your donation provides women and men in 
 the Komen Southeastern Colorado Affiliate with services that have lite
 rally saved lives. You help make the following programs possible:\n\n*
  Free mammograms and diagnostics\n* Medical treatment for qualified br
 east cancer patients who cannot afford care, including surgery, chemot
 herapy, and radiation\n* Support services including support groups, as
 sistance with finding financial resources, prescription refills and tr
 ansportation to medical appointments\n* Education about the warning si
 gns of breast cancer, methods of early detection and the latest treatm
 ent options\n* Cutting edge research to find a cure for breast cancer\
 n\nSeventy-five percent of net proceeds are used for local programs li
 ke those listed above, with 25 percent used to fund breast cancer rese
 arch.\"\n\nRace-day schedule:\n5:30 a.m. Gates/Parking Open\n5:30 – 
 8:00 a.m. Race Day Registration\n6:00 a.m. Survivor & VIP Breakfast (a
 t the Pink Cafe)\nRefreshment Tent Opens\nSponsors’ Tents Open\nShad
 es of Pink Merchandise Tent Opens\nBag Check Tent Opens\n7:00 a.m. Sur
 vivors’ Parade of Pink &\nNon-denominational Blessing\n8:00 a.m. 5K 
 Run\n8:15 a.m. 5K Walk\n8:45 a.m. 1K Family Walk\n9:00 a.m. Deadline f
 or Donation Prizes\n(Turn in at Donation Tent)\n9:45 a.m. Survivor Cel
 ebration, Awards Ceremony, and\nPrize Drawings (Main Stage)\n\n\nThis 
 event will occur on time, rain or shine. We reserve the right to cance
 l in extreme circumstances. In that event, there will be no refunds; r
 ather your entry fee will be used as a donation to the Komen Southeast
 ern Colorado Race for the Cure.\n\nFor more information visit http://p
 ikespeaksports.us/events/susan-g-komen-race-for-the
DTSTART:20100912T140000Z
DTEND:20100912T170000Z
CATEGORIES:5k, "walk/run", fundraiser
LOCATION:Garden of the Gods
WEBSITE:http://www.komensecolorado.org/
URL:http://www.komensecolorado.org/
CONTACT:
ORGANIZER;CN="Tim Bergsten":http://pikespeaksports.us/profile/TimBergs
 ten
ATTACH;FMTTYPE="image/jpeg":http://storage.ning.com/topology/rest/1.0/
 file/get/2684562396?profile=original
ATTENDEE;ROLE=REQ-PARTICIPANT;PARTSTAT=ACCEPTED;RSVP=TRUE;CN="Tim Berg
 sten":http://pikespeaksports.us/profile/TimBergsten
END:VEVENT
END:VCALENDAR
