BEGIN:VCALENDAR
PRODID:NingEventWidget-v1
VERSION:2.0
METHOD:PUBLISH
BEGIN:VEVENT
UID:5021591:Event:878372
DTSTAMP:20260422T174139Z
SUMMARY:Sunrise to Sunset Winter Park
DESCRIPTION:RACE THE SUN IN THE ROCKIES\nWinter Park Sunrise to Sunse
 t capitalizes on two well-established strengths: the Sunrise to Sunset
  model and Winter Park’s deep mountain-bike roots. Luscious singletr
 ack trails crisscross the mountains of Winter Park. How good are they,
  you ask? Good enough that USA Cycling is hosting the National Champio
 nships on the Winter Park trails once again for a third year in 2022.
 \nIdeal for a 12-hour relay format, the section of trails used in Sunr
 ise to Sunset are just above town, making access and relaxation betwee
 n laps super easy. Winter Park Sunrise to Sunset will be held in conju
 nction with Crooked Gravel, so at day’s end racers of both persuas
 ions will be partying together at the bandshell and surrounding park.\
 nThe 12-hour format is all about balancing camaraderie and challenge. 
 Sure, some folks race it solo, but most choose to race in teams, from 
 two-person up to five-person squads. As one teammate is out on course,
  banging out a 8-mile hot lap, the others are kicking back at camp, 
 enjoying the festival atmosphere in the cool, high-mountain air.\nWhil
 e some events cater specifically to beginners or experts, Sunrise to S
 unset offers fun for all; the level of challenge is self-selected by
  how fast you go!\n\n\n\n\n\n\n Details NEW FOR 2022\n\nThe start for
 mat will be revised. Details coming soon!\nLet’s go to the beach!  
 We all want to have a beach vacation, so we are making this year’s e
 vent themed “beach”.  Get your team to dress up, decorate your t
 eam area beach style for some sweet prizes.\nSeries point system. More
  to come!\n\n\n\n\nFor more information visit http://pikespeaksports.u
 s/events/sunrise-to-sunset-winter-park
DTSTART:20220723T060000Z
DTEND:20220724T055900Z
CATEGORIES:cycling, ride
LOCATION:Winter Park Resort
WEBSITE:https://events.outsideonline.com/sunrisetosunset/winterpark/
URL:https://events.outsideonline.com/sunrisetosunset/winterpark/
CONTACT:
ORGANIZER;CN="Roll Massif":http://pikespeaksports.us/profile/RollMassi
 f
ATTACH;FMTTYPE="image/jpeg":https://storage.ning.com/topology/rest/1.0
 /file/get/10253216472?profile=original
ATTENDEE;ROLE=REQ-PARTICIPANT;PARTSTAT=ACCEPTED;RSVP=TRUE;CN="Roll Mas
 sif":http://pikespeaksports.us/profile/RollMassif
END:VEVENT
END:VCALENDAR
