BEGIN:VCALENDAR
PRODID:NingEventWidget-v1
VERSION:2.0
METHOD:PUBLISH
BEGIN:VEVENT
UID:5021591:Event:878548
DTSTAMP:20260422T100435Z
SUMMARY:Sunrise to Sunset Elephant Rock
DESCRIPTION:The Sunrise to Sunset Elephant Rock is designed to offer r
 ecreational and competitive cyclists the opportunity to compete in a f
 un and rewarding 12 hour endurance race on a moderately technical off-
 road course. Register as an individual or form a team that loves to sh
 red for a memorable day of racing, camaraderie and laughs.\nTaking pl
 ace on the flowy trails at Philip S. Miller Park in Castle Rock, this
  amazing facility offers the perfect endurance mountain bike venue l
 ess than a mile from downtown Castle Rock.  The playful 6.5-mile cou
 rse is cut into the hills and drainages surrounding the park and off
 ers ample viewing from the staging area for team members and spectator
 s.\n\n\n\n\nNEW FOR 2022\n\nThe course will be counter clockwise\nThe 
 start format will be revised. Details coming soon!\nGet your dance mov
 es on!  That’s right, we are making this year’s event themed 
 80’s”.  Get your team to dress up and decorate your team area
  for some sweet prizes.\nSeries point system. More to come!\n\n\n\n\n\
 n\nFor more information visit http://pikespeaksports.us/events/sunrise
 -to-sunset-elephant-rock
DTSTART:20220604T060000Z
DTEND:20220605T055900Z
CATEGORIES:cycling, ride
LOCATION:Philip S. Miller Park
WEBSITE:https://events.outsideonline.com/sunrisetosunset/erock/
URL:https://events.outsideonline.com/sunrisetosunset/erock/
CONTACT:
ORGANIZER;CN="Roll Massif":http://pikespeaksports.us/profile/RollMassi
 f
ATTACH;FMTTYPE="image/jpeg":https://storage.ning.com/topology/rest/1.0
 /file/get/10253212455?profile=original
ATTENDEE;ROLE=REQ-PARTICIPANT;PARTSTAT=ACCEPTED;RSVP=TRUE;CN="Roll Mas
 sif":http://pikespeaksports.us/profile/RollMassif
END:VEVENT
END:VCALENDAR
