BEGIN:VCALENDAR
PRODID:NingEventWidget-v1
VERSION:2.0
METHOD:PUBLISH
BEGIN:VEVENT
UID:5021591:Event:1914
DTSTAMP:20260423T084441Z
SUMMARY:Sunday Hill Climb Ride
DESCRIPTION:Westside Hill Climbing Ride--Hill training for roadies and
  MTB'ers.\n\nFor more information visit http://pikespeaksports.us/even
 ts/sunday-hill-climb-ride
DTSTART:20100404T160000Z
DTEND:20100404T180000Z
CATEGORIES:bike, ride
LOCATION:CS West Bikes
WEBSITE:http://www.viethconsulting.com/Calendar/moreinfo.php?eventid=8
 439
URL:http://www.viethconsulting.com/Calendar/moreinfo.php?eventid=8439
CONTACT:
ORGANIZER:CS West Bikes
ATTACH;FMTTYPE="image/jpeg":http://storage.ning.com/topology/rest/1.0/
 file/get/2842524102?profile=original
ATTENDEE;ROLE=REQ-PARTICIPANT;PARTSTAT=ACCEPTED;RSVP=TRUE;CN="Brian Mc
 Carrie":http://pikespeaksports.us/profile/virtualbrian
END:VEVENT
END:VCALENDAR
