BEGIN:VCALENDAR
PRODID:NingEventWidget-v1
VERSION:2.0
METHOD:PUBLISH
BEGIN:VEVENT
UID:5021591:Event:1920
DTSTAMP:20260423T073258Z
SUMMARY:Sunday Fitness Ride
DESCRIPTION:Acacia Park Social Ride (C) at 1:00 PM – 266-8331: Both 
 the Sunday Social Ride (C) and the Sunday Fitness Ride (C-B) meet at 1
 :00 PM on the north side of Acacia Park along Platte Avenue near the p
 olice substation.\n\nFor more information visit http://pikespeaksports
 .us/events/sunday-fitness-ride
DTSTART:20100404T190000Z
DTEND:20100404T210000Z
CATEGORIES:bike, ride
LOCATION:Acacia Park in Downtown Colorado Springs
WEBSITE:http://www.viethconsulting.com/Calendar/moreinfo.php?eventid=1
 0140
URL:http://www.viethconsulting.com/Calendar/moreinfo.php?eventid=10140
CONTACT:
ORGANIZER:Colorado Springs Cycling Club
ATTACH;FMTTYPE="image/jpeg":http://storage.ning.com/topology/rest/1.0/
 file/get/2842524102?profile=original
ATTENDEE;ROLE=REQ-PARTICIPANT;PARTSTAT=ACCEPTED;RSVP=TRUE;CN="Brian Mc
 Carrie":http://pikespeaksports.us/profile/virtualbrian
END:VEVENT
END:VCALENDAR
