BEGIN:VCALENDAR
PRODID:NingEventWidget-v1
VERSION:2.0
METHOD:PUBLISH
BEGIN:VEVENT
UID:5021591:Event:836003
DTSTAMP:20260422T125927Z
SUMMARY:Sundance Dulathon
DESCRIPTION:Join us for a fun day of trail running and mountain biking
  at Cheyenne Mountain State Park! Challenge yourself to race the entir
 e course solo or as a two person relay, all while helping support Kids
  on Bikes!\n11 Mile Course - 2M RUN, 6.5 MTN BIKE, 2M RUN (great for b
 eginners!)  \nSolo or (2) Person Relay18 Mile Course - 3.2M RUN, 11.
 2 MTN BIKE, 3.2M RUN  \nSolo or (2) Person Relay\n\n\n\nFor more inf
 ormation visit http://pikespeaksports.us/events/sundance-dulathon
DTSTART:20190908T143000Z
DTEND:20190908T200000Z
CATEGORIES:dulathon
LOCATION:Cheyenne Mountain State Park
WEBSITE:https://www.runningguru.com/E1.asp?eID=55235
URL:https://www.runningguru.com/E1.asp?eID=55235
CONTACT:7193062330
ORGANIZER;CN=Pharis:http://pikespeaksports.us/profile/Pharis645
ATTACH;FMTTYPE="image/jpeg":https://storage.ning.com/topology/rest/1.0
 /file/get/2016475531?profile=original
ATTENDEE;ROLE=REQ-PARTICIPANT;PARTSTAT=ACCEPTED;RSVP=TRUE;CN=Pharis:ht
 tp://pikespeaksports.us/profile/Pharis645
END:VEVENT
END:VCALENDAR
