BEGIN:VCALENDAR
PRODID:NingEventWidget-v1
VERSION:2.0
METHOD:PUBLISH
BEGIN:VEVENT
UID:5021591:Event:7064
DTSTAMP:20260420T024904Z
SUMMARY:Summer Solstice 1/2 Marathon
DESCRIPTION:*FREE* Tough trail Half Marathon in the Columbia River Gor
 ge. Come join. June 19, 2010 at 9 am in front of Everybody's Brewing i
 n downtown White Salmon, WA.\n\nFor more information visit http://pike
 speaksports.us/events/summer-solstice-12-marathon
DTSTART:20100619T150000Z
DTEND:20100619T193000Z
CATEGORIES:"*free*", white, salmon, backyard, trail, "1/2", marathon
LOCATION:Everybody's Brewing
WEBSITE:
URL:
CONTACT:
ORGANIZER:
ATTACH;FMTTYPE="image/jpeg":
ATTENDEE;ROLE=REQ-PARTICIPANT;PARTSTAT=ACCEPTED;RSVP=TRUE;CN=Lynn:http
 ://pikespeaksports.us/profile/Lynn
END:VEVENT
END:VCALENDAR
