BEGIN:VCALENDAR
PRODID:NingEventWidget-v1
VERSION:2.0
METHOD:PUBLISH
BEGIN:VEVENT
UID:5021591:Event:835860
DTSTAMP:20260422T224131Z
SUMMARY:Step Up For Literacy 5K
DESCRIPTION:Â Join in the fun as we partner with Colorado Springs Swit
 chbacks FC\nThisÂ TimedÂ event is designed for the entire family in su
 pport of the Children's Literacy Center.\nThe Childrenâ€™s Literacy Ce
 nter, based in Colorado Springs, offers one-to-one tutoring to student
 s reading below grade level at NO COST TO FAMILIES! We match each stud
 ent with a community volunteer trained in the Peak ReaderÂ® Program. T
 utoring sessions areÂ one hour, twice a week, for 12 weeks during the 
 fall and spring and six weeks during the summer.\nPlease help us withÂ
  our Book Drive and let's fill theÂ Helping Hands Moving Truck. Your n
 ew or slightly used children'sÂ booksÂ will be a great value to this b
 ook drive.\n\n\n\n\n\nFor more information visit http://pikespeaksport
 s.us/events/step-up-for-literacy-5k
DTSTART:20190803T150000Z
DTEND:20190803T190000Z
CATEGORIES:fund, raiser
LOCATION:Weidner Field
WEBSITE:https://www.runningguru.com/E1.asp?eID=54313
URL:https://www.runningguru.com/E1.asp?eID=54313
CONTACT:7193062330
ORGANIZER;CN=Pharis:http://pikespeaksports.us/profile/Pharis645
ATTACH;FMTTYPE="image/jpeg":https://storage.ning.com/topology/rest/1.0
 /file/get/2016813327?profile=original
ATTENDEE;ROLE=REQ-PARTICIPANT;PARTSTAT=ACCEPTED;RSVP=TRUE;CN=Pharis:ht
 tp://pikespeaksports.us/profile/Pharis645
END:VEVENT
END:VCALENDAR
