BEGIN:VCALENDAR
PRODID:NingEventWidget-v1
VERSION:2.0
METHOD:PUBLISH
BEGIN:VEVENT
UID:5021591:Event:3257
DTSTAMP:20260421T093647Z
SUMMARY:Spring Trail Running Clinic, Estes Park, CO
DESCRIPTION:Come and enjoy beautiful Spring trail running in Estes Par
 k - we invite you to come and be inspired by amazing trails, magnifice
 nt scenery and clean, clear air.\nThe weekend is led by Nancy Hobbs, i
 nspirational trail runner, CE of ATRA, and co-author of The Ultimate G
 uide to Trail Running (with Adam Chase), and manager of the US mountai
 n running team. The weekend is for men and women runners who have alre
 ady run at least 6 miles at 10 min / mile pace or better on road, and 
 want to learn more about trail running. Workshop sessions will cover t
 rail running techniques, gear, form, nutrition, etc.\nRates are $335 p
 er person sharing - double room / $305 per person sharing - tri-room /
  $285 per person sharing - bunk room - rates include rooms for 2 night
 s, all meals, workshops, yoga or floor session, runs, water, etc.\nEve
 ryone attending will receive a copy of The Ultimate Guide to Trail Run
 ning, and a years membership of ATRA (American Trail Running Associati
 on).\nThanks to Fleet Feet Sports, Boulder, and Mizuno, every runner a
 ttending will also be entered into a prize draw for a pair of Mizuno W
 ave Ascend Trail shoes!\nEvery runner that attends will also be entere
 d into a free prize draw to win one of 2 sets of Icespikes, the ultima
 te non-slip shoe system.\n\nFor more information visit http://pikespea
 ksports.us/events/spring-trail-running-clinic
DTSTART:20100430T220000Z
DTEND:20100502T190000Z
CATEGORIES:trail, running, clinic
LOCATION:Active at Altitude
WEBSITE:http://www.activeataltitude.com
URL:http://www.activeataltitude.com
CONTACT:303-304-9159
ORGANIZER;CN="Terry Chiplin":http://pikespeaksports.us/profile/TerryCh
 iplin
ATTACH;FMTTYPE="image/jpeg":http://storage.ning.com/topology/rest/1.0/
 file/get/2842531384?profile=original
ATTENDEE;ROLE=REQ-PARTICIPANT;PARTSTAT=ACCEPTED;RSVP=TRUE;CN="Terry Ch
 iplin":http://pikespeaksports.us/profile/TerryChiplin
END:VEVENT
END:VCALENDAR
