BEGIN:VCALENDAR
PRODID:NingEventWidget-v1
VERSION:2.0
METHOD:PUBLISH
BEGIN:VEVENT
UID:5021591:Event:30943
DTSTAMP:20260423T100139Z
SUMMARY:So Co Velo Cyclocross Skills clinic
DESCRIPTION:Cyclocross skills Clinic. We are offering a cyclocross cli
 nics focusing on small groups and hands-on instruction. Learn the fine
 r points of cyclocross technique with this workshop. Open to all skill
  levels. Cost is $20.00, cash or check. ACA license is required. Annua
 l license can be purchased online at americancycling.org OR purchase a
  1 day license for $10.\n\nFor more information visit http://pikespeak
 sports.us/events/so-co-velo-cyclocross-skills
DTSTART:20100911T143000Z
DTEND:20100911T180000Z
CATEGORIES:"cycling clinic"
LOCATION:Bear Creek Park
WEBSITE:http://socovelo.com/news/
URL:http://socovelo.com/news/
CONTACT:
ORGANIZER:Southern Colorado Velo
ATTACH;FMTTYPE="image/jpeg":http://storage.ning.com/topology/rest/1.0/
 file/get/2842539504?profile=original
ATTENDEE;ROLE=REQ-PARTICIPANT;PARTSTAT=ACCEPTED;RSVP=TRUE;CN="Brian Mc
 Carrie":http://pikespeaksports.us/profile/virtualbrian
END:VEVENT
END:VCALENDAR
