BEGIN:VCALENDAR
PRODID:NingEventWidget-v1
VERSION:2.0
METHOD:PUBLISH
BEGIN:VEVENT
UID:5021591:Event:4070
DTSTAMP:20260421T135122Z
SUMMARY:Seventh Annual Fisher DeBerry Foundation
DESCRIPTION:A 5k run and walk benefiting the Colorado Springs FCA, The
  Home Front Cares, Single Parent Family Ministry and the Fisher DeBerr
 y Foundation.\n\nRegistration Information\nADULTS\n$25.00 (pre-registr
 ation by May 7 at 6:00PM)\n$30.00 (day-of registration)\nCHILDREN & ST
 UDENTS\n$20.00 (pre-registration by May 7 at 6:00PM)\n$25.00 (day-of r
 egistration)\n\nJoin legendary Air Force football Coach Fisher DeBerry
  as we host our Seventh Annual Fisher DeBerry Foundation 5k Fun Run an
 d Walk. Coach DeBerry will present medals to the top 3 overall finishe
 rs in each race, as well as the top 3 finishers in each age category. 
 Each participant will receive a tee shirt (S, M, L, XL, XXL). All regi
 strants will be eligible to win great raffle prizes following the race
  as well as FREE CiCi’s Pizza after the race!!!\n\nPacket Pick-up an
 d Race Day Registration:\nWashburn Field, 7:15 A.M. - 8:15 A.M.\n\nFor
  more information visit http://pikespeaksports.us/events/seventh-annua
 l-fisher-deberry
DTSTART:20100508T143000Z
DTEND:20100508T170000Z
CATEGORIES:5k, "run/walk"
LOCATION:Washburn Field, Colorado College
WEBSITE:http://www.fisherdeberryfoundation.org/5krun.html
URL:http://www.fisherdeberryfoundation.org/5krun.html
CONTACT:
ORGANIZER;CN="Pikes Peak Sports":http://pikespeaksports.us/profile/Pik
 esPeakSports
ATTACH;FMTTYPE="image/jpeg":http://storage.ning.com/topology/rest/1.0/
 file/get/2842532165?profile=original
ATTENDEE;ROLE=REQ-PARTICIPANT;PARTSTAT=ACCEPTED;RSVP=TRUE;CN="Pikes Pe
 ak Sports":http://pikespeaksports.us/profile/PikesPeakSports
END:VEVENT
END:VCALENDAR
