BEGIN:VCALENDAR
PRODID:NingEventWidget-v1
VERSION:2.0
METHOD:PUBLISH
BEGIN:VEVENT
UID:5021591:Event:22526
DTSTAMP:20260423T175225Z
SUMMARY:Second Annual Ride to a Save Suicide Turtle Challenge
DESCRIPTION:Plan to attend the 2nd annual (Ride to Save a Suicide) on 
 Aug. 15th at El Pomar Youth Sports Park. This year there is a 23-mile 
 bike ride and a 40-mile race. Both\nthe ride and race starts and end a
 t El Pomar Youth Sports Park. We will finish the day with a Cook out, 
 Beer garden, Massage, Prizes and fun!\nThere were 172 deaths from suic
 ide last year in El Paso County. Help us to reduce that number by ridi
 ng or racing. Please sign up at http://pikespeaksuicideprevention.org/
  Go to the web page to check out the great sponsorships for this year 
 and the details about the race/ride. Please e-mail this to everybody y
 ou know. Hope to see you all there!\nhttp://pikespeaksuicideprevention
 .org/ridetosaveasuicide.html\n\nFor more information visit http://pike
 speaksports.us/events/second-annual-ride-to-a-save
DTSTART:20100815T140000Z
DTEND:20100815T190000Z
CATEGORIES:bike, "race/ride", and, fundraiser
LOCATION:El Pomar Youth Sports Park
WEBSITE:http://pikespeaksuicideprevention.org/ridetosaveasuicide.html
URL:http://pikespeaksuicideprevention.org/ridetosaveasuicide.html
CONTACT:
ORGANIZER;CN="Tim Bergsten":http://pikespeaksports.us/profile/TimBergs
 ten
ATTACH;FMTTYPE="image/jpeg":http://storage.ning.com/topology/rest/1.0/
 file/get/2656401323?profile=original
ATTENDEE;ROLE=REQ-PARTICIPANT;PARTSTAT=ACCEPTED;RSVP=TRUE;CN="Tim Berg
 sten":http://pikespeaksports.us/profile/TimBergsten
END:VEVENT
END:VCALENDAR
